Workbook

Sheet Check Template (single) (2)
I1: CHECK PRINTING [SOLO]
A2: =J3 -> Jun | B2: =K3 -> 26 | C2: =L3 -> 2024 | D2: =J4 -> Rentokil Initial (Philippines), Inc | E2: =J6 -> 0 | F2: =#REF! -> #REF! | G2: =J8 -> 6833.34 | J2: Month | K2: Date | L2: Year | AC2: =IFERROR(VLOOKUP($J3,Helper!$B$12:$D$23,2,FALSE),0) -> 0 | AD2: =IFERROR(VLOOKUP($J3,Helper!$B$12:$D$23,3,FALSE),0) -> 6 | AE2: - | AF2: =IFERROR(VLOOKUP($K3,Helper!$E$12:$G$42,2,FALSE),0) -> 2 | AG2: =IFERROR(VLOOKUP($K3,Helper!$E$12:$G$42,3,FALSE),0) -> 6 | AH2: - | AI2: 2 | AJ2: 0 | AK2: 2 | AL2: =RIGHT($L3,1) -> 4
I3: Date | J3: Jun | K3: 26 | L3: 2024 | R3: =J4 -> Rentokil Initial (Philippines), Inc | AB3: =J8 -> 6833.34
I4: Payee | J4: Rentokil Initial (Philippines), Inc | Q4: =CHOOSE(LEFT(TEXT(J8,"000000000.00"))+1,,"One","Two","Three","Four","Five","Six","Seven","Eight","Nine") &IF(--LEFT(TEXT(J8,"000000000.00"))=0,,IF(AND(--MID(TEXT(J8,"000000000.00"),2,1)=0,--MID(TEXT(J8,"000000000.00"),3,1)=0)," Hundred"," Hundred ")) &CHOOSE(MID(TEXT(J8,"000000000.00"),2,1)+1,,,"Twenty ","Thirty ","Forty ","Fifty ","Sixty ","Seventy ","Eighty ","Ninety ") &IF(--MID(TEXT(J8,"000000000.00"),2,1)<>1,CHOOSE(MID(TEXT(J8,"000000000.00"),3,1)+1,,"One","Two","Three","Four","Five","Six","Seven","Eight","Nine"), CHOOSE(MID(TEXT(J8,"000000000.00"),3,1)+1,"Ten","Eleven","Twelve","Thirteen","Fourteen","Fifteen","Sixteen","Seventeen","Eighteen","Nineteen")) &IF((--LEFT(TEXT(J8,"000000000.00"))+MID(TEXT(J8,"000000000.00"),2,1)+MID(TEXT(J8,"000000000.00"),3,1))=0,,IF(AND((--MID(TEXT(J8,"000000000.00"),4,1)+MID(TEXT(J8,"000000000.00"),5,1)+MID(TEXT(J8,"000000000.00"),6,1)+MID(TEXT(J8,"000000000.00"),7,1))=0,(--MID(TEXT(J8,"000000000.00"),8,1)+RIGHT(TEXT(J8,"000000000.00")))>0)," Million "," Million ")) &CHOOSE(MID(TEXT(J8,"000000000.00"),4,1)+1,,"One","Two","Three","Four","Five","Six","Seven","Eight","Nine") &IF(--MID(TEXT(J8,"000000000.00"),4,1)=0,,IF(AND(--MID(TEXT(J8,"000000000.00"),5,1)=0,--MID(TEXT(J8,"000000000.00"),6,1)=0)," Hundred"," Hundred ")) &CHOOSE(MID(TEXT(J8,"000000000.00"),5,1)+1,,," Twenty"," Thirty"," Forty"," Fifty"," Sixty"," Seventy"," Eighty"," Ninety") &IF(--MID(TEXT(J8,"000000000.00"),5,1)<>1,CHOOSE(MID(TEXT(J8,"000000000.00"),6,1)+1,," One"," Two"," Three"," Four"," Five"," Six"," Seven"," Eight"," Nine"),CHOOSE(MID(TEXT(J8,"000000000.00"),6,1)+1," Ten"," Eleven"," Twelve"," Thirteen"," Fourteen"," Fifteen"," Sixteen"," Seventeen"," Eighteen"," Nineteen")) &IF((--MID(TEXT(J8,"000000000.00"),4,1)+MID(TEXT(J8,"000000000.00"),5,1)+MID(TEXT(J8,"000000000.00"),6,1))=0,,IF(OR((--MID(TEXT(J8,"000000000.00"),7,1)+MID(TEXT(J8,"000000000.00"),8,1)+MID(TEXT(J8,"000000000.00"),9,1))=0,--MID(TEXT(J8,"000000000.00"),7,1)<>0)," Thousand "," Thousand ")) &CHOOSE(MID(TEXT(J8,"000000000.00"),7,1)+1,,"One","Two","Three","Four","Five","Six","Seven","Eight","Nine") &IF(--MID(TEXT(J8,"000000000.00"),7,1)=0,,IF(AND(--MID(TEXT(J8,"000000000.00"),8,1)=0,--MID(TEXT(J8,"000000000.00"),9,1)=0)," Hundred "," Hundred "))& CHOOSE(MID(TEXT(J8,"000000000.00"),8,1)+1,,,"Twenty ","Thirty ","Forty ","Fifty ","Sixty ","Seventy ","Eighty ","Ninety ") &IF(--MID(TEXT(J8,"000000000.00"),8,1)<>1,CHOOSE(MID(TEXT(J8,"000000000.00"),9,1)+1,,"One","Two","Three","Four","Five","Six","Seven","Eight","Nine"),CHOOSE(MID(TEXT(J8,"000000000.00"),9,1)+1,"Ten","Eleven","Twelve","Thirteen","Fourteen","Fifteen","Sixteen","Seventeen","Eighteen","Nineteen")) &" & "&RIGHT(TEXT(J8,"000000000.00"),2)&"/100 pesos only" -> Six Thousand Eight Hundred Thirty Three & 34/100 pesos only
I6: Purpose
I8: Amount | J8: 6833.34
I14: DIGITAL CHECK BOOK RECORD
I15: Date | J15: Check No | L15: Bank | M15: Particulars | S15: Deposit | V15: Withdrawal | Y15: Balance

Sheet CHECK REQUEST 2025
I1: CHECK PRINTING / WRITER [single check]
A2: =J5 -> Nov | B2: =J6 -> 3 | C2: =J7 -> 2025 | D2: =J3 -> CASH | E2: =J9 -> 0 | F2: =#REF! -> #REF! | G2: =J4 -> 100 | AB2: =IFERROR(VLOOKUP($J5,Helper!$B$12:$D$23,2,FALSE),0) -> 1 | AC2: =IFERROR(VLOOKUP($J5,Helper!$B$12:$D$23,3,FALSE),0) -> 1 | AE2: =IFERROR(VLOOKUP($J6,Helper!$E$12:$G$42,2,FALSE),0) -> 0 | AF2: =IFERROR(VLOOKUP($J6,Helper!$E$12:$G$42,3,FALSE),0) -> 3 | AH2: 2 | AI2: 0 | AJ2: 2 | AK2: =RIGHT($J7,1) -> 5
I3: Payee | J3: CASH | Q3: =J3 -> CASH | AA3: =J4 -> 100
I4: Amount | J4: 100 | P4: =CHOOSE(LEFT(TEXT(J4,"000000000.00"))+1,,"One","Two","Three","Four","Five","Six","Seven","Eight","Nine") &IF(--LEFT(TEXT(J4,"000000000.00"))=0,,IF(AND(--MID(TEXT(J4,"000000000.00"),2,1)=0,--MID(TEXT(J4,"000000000.00"),3,1)=0)," Hundred"," Hundred ")) &CHOOSE(MID(TEXT(J4,"000000000.00"),2,1)+1,,,"Twenty ","Thirty ","Forty ","Fifty ","Sixty ","Seventy ","Eighty ","Ninety ") &IF(--MID(TEXT(J4,"000000000.00"),2,1)<>1,CHOOSE(MID(TEXT(J4,"000000000.00"),3,1)+1,,"One","Two","Three","Four","Five","Six","Seven","Eight","Nine"), CHOOSE(MID(TEXT(J4,"000000000.00"),3,1)+1,"Ten","Eleven","Twelve","Thirteen","Fourteen","Fifteen","Sixteen","Seventeen","Eighteen","Nineteen")) &IF((--LEFT(TEXT(J4,"000000000.00"))+MID(TEXT(J4,"000000000.00"),2,1)+MID(TEXT(J4,"000000000.00"),3,1))=0,,IF(AND((--MID(TEXT(J4,"000000000.00"),4,1)+MID(TEXT(J4,"000000000.00"),5,1)+MID(TEXT(J4,"000000000.00"),6,1)+MID(TEXT(J4,"000000000.00"),7,1))=0,(--MID(TEXT(J4,"000000000.00"),8,1)+RIGHT(TEXT(J4,"000000000.00")))>0)," Million "," Million ")) &CHOOSE(MID(TEXT(J4,"000000000.00"),4,1)+1,,"One","Two","Three","Four","Five","Six","Seven","Eight","Nine") &IF(--MID(TEXT(J4,"000000000.00"),4,1)=0,,IF(AND(--MID(TEXT(J4,"000000000.00"),5,1)=0,--MID(TEXT(J4,"000000000.00"),6,1)=0)," Hundred"," Hundred ")) &CHOOSE(MID(TEXT(J4,"000000000.00"),5,1)+1,,," Twenty"," Thirty"," Forty"," Fifty"," Sixty"," Seventy"," Eighty"," Ninety") &IF(--MID(TEXT(J4,"000000000.00"),5,1)<>1,CHOOSE(MID(TEXT(J4,"000000000.00"),6,1)+1,," One"," Two"," Three"," Four"," Five"," Six"," Seven"," Eight"," Nine"),CHOOSE(MID(TEXT(J4,"000000000.00"),6,1)+1," Ten"," Eleven"," Twelve"," Thirteen"," Fourteen"," Fifteen"," Sixteen"," Seventeen"," Eighteen"," Nineteen")) &IF((--MID(TEXT(J4,"000000000.00"),4,1)+MID(TEXT(J4,"000000000.00"),5,1)+MID(TEXT(J4,"000000000.00"),6,1))=0,,IF(OR((--MID(TEXT(J4,"000000000.00"),7,1)+MID(TEXT(J4,"000000000.00"),8,1)+MID(TEXT(J4,"000000000.00"),9,1))=0,--MID(TEXT(J4,"000000000.00"),7,1)<>0)," Thousand "," Thousand ")) &CHOOSE(MID(TEXT(J4,"000000000.00"),7,1)+1,,"One","Two","Three","Four","Five","Six","Seven","Eight","Nine") &IF(--MID(TEXT(J4,"000000000.00"),7,1)=0,,IF(AND(--MID(TEXT(J4,"000000000.00"),8,1)=0,--MID(TEXT(J4,"000000000.00"),9,1)=0)," Hundred "," Hundred "))& CHOOSE(MID(TEXT(J4,"000000000.00"),8,1)+1,,,"Twenty ","Thirty ","Forty ","Fifty ","Sixty ","Seventy ","Eighty ","Ninety ") &IF(--MID(TEXT(J4,"000000000.00"),8,1)<>1,CHOOSE(MID(TEXT(J4,"000000000.00"),9,1)+1,,"One","Two","Three","Four","Five","Six","Seven","Eight","Nine"),CHOOSE(MID(TEXT(J4,"000000000.00"),9,1)+1,"Ten","Eleven","Twelve","Thirteen","Fourteen","Fifteen","Sixteen","Seventeen","Eighteen","Nineteen")) &" Pesos and "&RIGHT(TEXT(J4,"000000000.00"),2)&"/100 only." -> One Hundred Pesos and 00/100 only.
I5: Month | J5: Nov
I6: Date | J6: 3
I7: Year | J7: 2025
I9: Purpose
I13: DIGITAL CHECK BOOK RECORD
I14: DATE | J14: CHECK NO. | K14: BANK | L14: PARTICULARS | R14: AMOUNT | U14: TOTAL
U15: =R15 -> 0
U16: =R16 -> 0
U17: =R17 -> 0
U18: =R18 -> 0
U19: =R19 -> 0
U20: =R20 -> 0
U21: =R21 -> 0
U22: =R22 -> 0
U23: =R23 -> 0
U24: =R24 -> 0
U25: =R25 -> 0
U26: =R26 -> 0
... U31: =R31 -> 0

Sheet Helper
M2: 123
B3: 7856.32
B5: 10 | D5: =IF(OR(LEN(FLOOR(B5,1))=13,FLOOR(B5,1)<=0),"Out of range",PROPER(SUBSTITUTE(CONCATENATE(CHOOSE(MID(TEXT(INT(B5),REPT(0,12)),1,1)+1,"","one hundred ","two hundred ","three hundred ","four hundred ","five hundred ","six hundred ","seven hundred ","eight hundred ","nine hundred "),CHOOSE(MID(TEXT(INT(B5),REPT(0,12)),2,1)+1,"",CHOOSE(MID(TEXT(INT(B5),REPT(0,12)),3,1)+1,"ten","eleven","twelve","thirteen","fourteen","fifteen","sixteen","seventeen","eighteen","nineteen"),"twenty","thirty","forty","fifty","sixty","seventy","eighty","ninety"),IF(VALUE(MID(TEXT(INT(B5),REPT(0,12)),2,1))>1,CHOOSE(MID(TEXT(INT(B5),REPT(0,12)),3,1)+1,""," one"," two"," three"," four"," five"," six"," seven"," eight"," nine"),IF(VALUE(MID(TEXT(INT(B5),REPT(0,12)),2,1))=0,CHOOSE(MID(TEXT(INT(B5),REPT(0,12)),3,1)+1,"","one","two","three","four","five","six","seven","eight","nine"),"")),IF(B5>=10^9," billion ",""),CHOOSE(MID(TEXT(INT(B5),REPT(0,12)),4,1)+1,"","one hundred ","two hundred ","three hundred ","four hundred ","five hundred ","six hundred ","seven hundred ","eight hundred ","nine hundred "),CHOOSE(MID(TEXT(INT(B5),REPT(0,12)),5,1)+1,"",CHOOSE(MID(TEXT(INT(B5),REPT(0,12)),6,1)+1,"ten","eleven","twelve","thirteen","fourteen","fifteen","sixteen","seventeen","eighteen","nineteen"),"twenty","thirty","forty","fifty","sixty","seventy","eighty","ninety"),IF(VALUE(MID(TEXT(INT(B5),REPT(0,12)),5,1))>1,CHOOSE(MID(TEXT(INT(B5),REPT(0,12)),6,1)+1,""," one"," two"," three"," four"," five"," six"," seven"," eight"," nine"),IF(VALUE(MID(TEXT(INT(B5),REPT(0,12)),5,1))=0,CHOOSE(MID(TEXT(INT(B5),REPT(0,12)),6,1)+1,"","one","two","three","four","five","six","seven","eight","nine"),"")),IF(VALUE(MID(TEXT(INT(B5),REPT(0,12)),4,3))>0," million ",""),CHOOSE(MID(TEXT(INT(B5),REPT(0,12)),7,1)+1,"","one hundred ","two hundred ","three hundred ","four hundred ","five hundred ","six hundred ","seven hundred ","eight hundred ","nine hundred "),CHOOSE(MID(TEXT(INT(B5),REPT(0,12)),8,1)+1,"",CHOOSE(MID(TEXT(INT(B5),REPT(0,12)),9,1)+1,"ten","eleven","twelve","thirteen","fourteen","fifteen","sixteen","seventeen","eighteen","nineteen"),"twenty","thirty","forty","fifty","sixty","seventy","eighty","ninety"),IF(VALUE(MID(TEXT(INT(B5),REPT(0,12)),8,1))>1,CHOOSE(MID(TEXT(INT(B5),REPT(0,12)),9,1)+1,""," one"," two"," three"," four"," five"," six"," seven"," eight"," nine"),IF(VALUE(MID(TEXT(INT(B5),REPT(0,12)),8,1))=0,CHOOSE(MID(TEXT(INT(B5),REPT(0,12)),9,1)+1,"","one","two","three","four","five","six","seven","eight","nine"),"")),IF(VALUE(MID(TEXT(INT(B5),REPT(0,12)),7,3))," thousand ",""),CHOOSE(MID(TEXT(INT(B5),REPT(0,12)),10,1)+1,"","one hundred ","two hundred ","three hundred ","four hundred ","five hundred ","six hundred ","seven hundred ","eight hundred ","nine hundred "),CHOOSE(MID(TEXT(INT(B5),REPT(0,12)),11,1)+1,"",CHOOSE(MID(TEXT(INT(B5),REPT(0,12)),12,1)+1,"ten","eleven","twelve","thirteen","fourteen","fifteen","sixteen","seventeen","eighteen","nineteen"),"twenty","thirty","forty","fifty","sixty","seventy","eighty","ninety"),IF(VALUE(MID(TEXT(INT(B5),REPT(0,12)),11,1))>1,CHOOSE(MID(TEXT(INT(B5),REPT(0,12)),12,1)+1,""," one"," two"," three"," four"," five"," six"," seven"," eight"," nine"),IF(VALUE(MID(TEXT(INT(B5),REPT(0,12)),11,1))=0,CHOOSE(MID(TEXT(INT(B5),REPT(0,12)),12,1)+1,"","one","two","three","four","five","six","seven","eight","nine"),"")))," "," ")&IF(FLOOR(B5,1)>1," "," ")&IF(ISERROR(FIND(".",B5,1)),""," point "&PROPER(IF(LEN(LEFT(TRIM(MID(SUBSTITUTE(B5,".",REPT(" ",255)),255,200)),2))=1,CHOOSE(1*LEFT(TRIM(MID(SUBSTITUTE(B5,".",REPT(" ",255)),255,200)),2),"One","Two","Three","Four","Five","Six","Seven","Eight","Nine")&" ","")&CONCATENATE(CHOOSE(MID(TEXT(INT(LEFT(TRIM(MID(SUBSTITUTE(B5,".",REPT(" ",255)),255,200)),2)),REPT(0,12)),11,1)+1,"",CHOOSE(MID(TEXT(INT(LEFT(TRIM(MID(SUBSTITUTE(B5,".",REPT(" ",255)),255,200)),2)),REPT(0,12)),12,1)+1,"One","One One","One Two","One Three","One Four","One Five","One Six","One Seven","One Eight","One Nine")&" ","Two","Three","Four","Five","Six","Seven","Eight","Nine"),IF(VALUE(MID(TEXT(INT(LEFT(TRIM(MID(SUBSTITUTE(B5,".",REPT(" ",255)),255,200)),2)),REPT(0,12)),11,1))>1,CHOOSE(MID(TEXT(INT(LEFT(TRIM(MID(SUBSTITUTE(B5,".",REPT(" ",255)),255,200)),2)),REPT(0,12)),12,1)+1,""," One"," Two"," Three"," Four"," Five"," Six"," Seven"," Eight"," Nine")&" ",IF(LEFT(TRIM(MID(SUBSTITUTE(B5,".",REPT(" ",255)),255,200)),2)="01","one ",IF(LEFT(TRIM(MID(SUBSTITUTE(B5,".",REPT(" ",255)),255,200)),1)="0",CHOOSE(MID(TEXT(INT(LEFT(TRIM(MID(SUBSTITUTE(B5,".",REPT(" ",255)),255,200)),2)),REPT(0,12)),12,1)+1,"","One","Two","Three","Four","Five","Six","Seven","Eight","Nine")&" ","")))))))) -> Ten
D7: =CHOOSE(LEFT(TEXT(M2,"000000000.00"))+1,,"One","Two","Three","Four","Five","Six","Seven","Eight","Nine") &IF(--LEFT(TEXT(M2,"000000000.00"))=0,,IF(AND(--MID(TEXT(M2,"000000000.00"),2,1)=0,--MID(TEXT(M2,"000000000.00"),3,1)=0)," Hundred"," Hundred and ")) &CHOOSE(MID(TEXT(M2,"000000000.00"),2,1)+1,,,"Twenty ","Thirty ","Forty ","Fifty ","Sixty ","Seventy ","Eighty ","Ninety ") &IF(--MID(TEXT(M2,"000000000.00"),2,1)<>1,CHOOSE(MID(TEXT(M2,"000000000.00"),3,1)+1,,"One","Two","Three","Four","Five","Six","Seven","Eight","Nine"), CHOOSE(MID(TEXT(M2,"000000000.00"),3,1)+1,"Ten","Eleven","Twelve","Thirteen","Fourteen","Fifteen","Sixteen","Seventeen","Eighteen","Nineteen")) &IF((--LEFT(TEXT(M2,"000000000.00"))+MID(TEXT(M2,"000000000.00"),2,1)+MID(TEXT(M2,"000000000.00"),3,1))=0,,IF(AND((--MID(TEXT(M2,"000000000.00"),4,1)+MID(TEXT(M2,"000000000.00"),5,1)+MID(TEXT(M2,"000000000.00"),6,1)+MID(TEXT(M2,"000000000.00"),7,1))=0,(--MID(TEXT(M2,"000000000.00"),8,1)+RIGHT(TEXT(M2,"000000000.00")))>0)," Million and "," Million ")) &CHOOSE(MID(TEXT(M2,"000000000.00"),4,1)+1,,"One","Two","Three","Four","Five","Six","Seven","Eight","Nine") &IF(--MID(TEXT(M2,"000000000.00"),4,1)=0,,IF(AND(--MID(TEXT(M2,"000000000.00"),5,1)=0,--MID(TEXT(M2,"000000000.00"),6,1)=0)," Hundred"," Hundred and")) &CHOOSE(MID(TEXT(M2,"000000000.00"),5,1)+1,,," Twenty"," Thirty"," Forty"," Fifty"," Sixty"," Seventy"," Eighty"," Ninety") &IF(--MID(TEXT(M2,"000000000.00"),5,1)<>1,CHOOSE(MID(TEXT(M2,"000000000.00"),6,1)+1,," One"," Two"," Three"," Four"," Five"," Six"," Seven"," Eight"," Nine"),CHOOSE(MID(TEXT(M2,"000000000.00"),6,1)+1," Ten"," Eleven"," Twelve"," Thirteen"," Fourteen"," Fifteen"," Sixteen"," Seventeen"," Eighteen"," Nineteen")) &IF((--MID(TEXT(M2,"000000000.00"),4,1)+MID(TEXT(M2,"000000000.00"),5,1)+MID(TEXT(M2,"000000000.00"),6,1))=0,,IF(OR((--MID(TEXT(M2,"000000000.00"),7,1)+MID(TEXT(M2,"000000000.00"),8,1)+MID(TEXT(M2,"000000000.00"),9,1))=0,--MID(TEXT(M2,"000000000.00"),7,1)<>0)," Thousand "," Thousand and ")) &CHOOSE(MID(TEXT(M2,"000000000.00"),7,1)+1,,"One","Two","Three","Four","Five","Six","Seven","Eight","Nine") &IF(--MID(TEXT(M2,"000000000.00"),7,1)=0,,IF(AND(--MID(TEXT(M2,"000000000.00"),8,1)=0,--MID(TEXT(M2,"000000000.00"),9,1)=0)," Hundred "," Hundred and "))& CHOOSE(MID(TEXT(M2,"000000000.00"),8,1)+1,,,"Twenty ","Thirty ","Forty ","Fifty ","Sixty ","Seventy ","Eighty ","Ninety ") &IF(--MID(TEXT(M2,"000000000.00"),8,1)<>1,CHOOSE(MID(TEXT(M2,"000000000.00"),9,1)+1,,"One","Two","Three","Four","Five","Six","Seven","Eight","Nine"),CHOOSE(MID(TEXT(M2,"000000000.00"),9,1)+1,"Ten","Eleven","Twelve","Thirteen","Fourteen","Fifteen","Sixteen","Seventeen","Eighteen","Nineteen")) &" & "&RIGHT(TEXT(M2,"000000000.00"),2)&"/100 pesos only" -> One Hundred and Twenty Three & 00/100 pesos only
B11: Month Name | C11: Month Num1 | D11: Month Num2 | E11: Date | F11: Date1 | G11: Date2 | H11: Year
B12: Jan | C12: 0 | D12: 1 | E12: 1 | F12: 0 | G12: 1 | H12: 2022
B13: Feb | C13: 0 | D13: 2 | E13: 2 | F13: 0 | G13: 2 | H13: 2023
B14: Mar | C14: 0 | D14: 3 | E14: 3 | F14: 0 | G14: 3 | H14: 2024
B15: Apr | C15: 0 | D15: 4 | E15: 4 | F15: 0 | G15: 4 | H15: 2025
B16: May | C16: 0 | D16: 5 | E16: 5 | F16: 0 | G16: 5 | H16: 2026
B17: Jun | C17: 0 | D17: 6 | E17: 6 | F17: 0 | G17: 6 | H17: 2027
B18: Jul | C18: 0 | D18: 7 | E18: 7 | F18: 0 | G18: 7
B19: Aug | C19: 0 | D19: 8 | E19: 8 | F19: 0 | G19: 8
B20: Sep | C20: 0 | D20: 9 | E20: 9 | F20: 0 | G20: 9
B21: Oct | C21: 1 | D21: 0 | E21: 10 | F21: 1 | G21: 0
B22: Nov | C22: 1 | D22: 1 | E22: 11 | F22: 1 | G22: 1
B23: Dec | C23: 1 | D23: 2 | E23: 12 | F23: 1 | G23: 2
E24: 13 | F24: 1 | G24: 3
E25: 14 | F25: 1 | G25: 4
E26: 15 | F26: 1 | G26: 5
E27: 16 | F27: 1 | G27: 6
E28: 17 | F28: 1 | G28: 7
E29: 18 | F29: 1 | G29: 8
E30: 19 | F30: 1 | G30: 9
E31: 20 | F31: 2 | G31: 0
E32: 21 | F32: 2 | G32: 1
E33: 22 | F33: 2 | G33: 2
E34: 23 | F34: 2 | G34: 3
E35: 24 | F35: 2 | G35: 4
... E42: 31 | F42: 3 | G42: 1
